BEGIN:VCALENDAR
VERSION:2.0
PRODID:-//Library Market//iCal Export//EN
BEGIN:VEVENT
SUMMARY:Aimee Nezhukumatathil Author Talk - Zoom
UID:9108
DTSTAMP:20260425T164900Z
DTSTART:20260427T233000Z
DTEND:20260428T003000Z
LOCATION:Galesburg Public Library, 264 W Main St., Galesburg, IL 61401, Un
 ited States
ROOM: Community Room
DESCRIPTION:Register to receive the Zoom link (when it becomes available) 
 for this special author talk with Aimee Nezhukumatathil, the author of Bit
 e by Bite: Nourishments and Jamborees! If you are unable to join from your
  own device, join us in the Community Room. All month we&#039;ve been rea
 ding and discussing Bite by Bite. Now hear from the author herself!The Com
 munity Read this year is sponsored by the Galesburg Public Library Foundat
 ion. *This event will NOT be recorded.
URL:https://galesburg.librarycalendar.com/event/aimee
END:VEVENT
END:VCALENDAR
